BEGIN:VCALENDAR
VERSION:2.0
PRODID:-//AFTA - ECPv6.15.20//NONSGML v1.0//EN
CALSCALE:GREGORIAN
METHOD:PUBLISH
X-WR-CALNAME:AFTA
X-ORIGINAL-URL:https://afta.ie
X-WR-CALDESC:Events for AFTA
REFRESH-INTERVAL;VALUE=DURATION:PT1H
X-Robots-Tag:noindex
X-PUBLISHED-TTL:PT1H
BEGIN:VTIMEZONE
TZID:Europe/Dublin
BEGIN:DAYLIGHT
TZOFFSETFROM:+0000
TZOFFSETTO:+0100
TZNAME:IST
DTSTART:20240331T010000
END:DAYLIGHT
BEGIN:STANDARD
TZOFFSETFROM:+0100
TZOFFSETTO:+0000
TZNAME:GMT
DTSTART:20241027T010000
END:STANDARD
BEGIN:DAYLIGHT
TZOFFSETFROM:+0000
TZOFFSETTO:+0100
TZNAME:IST
DTSTART:20250330T010000
END:DAYLIGHT
BEGIN:STANDARD
TZOFFSETFROM:+0100
TZOFFSETTO:+0000
TZNAME:GMT
DTSTART:20251026T010000
END:STANDARD
BEGIN:DAYLIGHT
TZOFFSETFROM:+0000
TZOFFSETTO:+0100
TZNAME:IST
DTSTART:20260329T010000
END:DAYLIGHT
BEGIN:STANDARD
TZOFFSETFROM:+0100
TZOFFSETTO:+0000
TZNAME:GMT
DTSTART:20261025T010000
END:STANDARD
END:VTIMEZONE
BEGIN:VEVENT
DTSTART;TZID=Europe/Dublin:20250816T133000
DTEND;TZID=Europe/Dublin:20250816T170000
DTSTAMP:20260422T104825
CREATED:20250402T134435Z
LAST-MODIFIED:20250402T134435Z
UID:158413-1755351000-1755363600@afta.ie
SUMMARY:Pilot Training Seminar Dublin
DESCRIPTION:Join us for our Dublin Training Seminar\, giving you an opportunity to learn about what steps to take to become a pilot.\n\n\nHave you dreamed of becoming a commercial pilot but have no flying experience and don’t know where to start? Would you like to find out more about Atlantic Flight Training Academy and what makes us a leading international flight training academy? Attend our free seminar to hear from our Senior Flight Instructors who will introduce you to AFTA. \nThere will be two talks on the day: \n1:30-2:30pm: Our senior instructors will explain to you in detail our newly launched Ryanair Future Flyer programme\, our VistaJet\, ASL Ireland and GlobeAir airline partnerships\, along with Modular Training \, Dual Licence Training and CAA to EASA Conversions. \n3:30-4.30pm: An Introduction to PPL theory\, followed by an indepth look at our assessment process to give you the best chance for success on the day. \nWe will be on hand to answer your questions\, along with our students\, book your complimentary show through of our academy\, or guide you on your best route to becoming a commercial pilot.
URL:https://afta.ie/event/pilot-training-seminar-dublin/
ATTACH;FMTTYPE=image/png:https://afta.ie/wp-content/uploads/2025/04/158413_image.png
END:VEVENT
END:VCALENDAR